BEGIN:VCALENDAR
VERSION:2.0
PRODID:-//Tukios.com/
BEGIN:VEVENT
UID:f2fa1136-2e94-4d56-9dc0-d71c0dcb5fcd@www.kornerstonefunerals.com
DTSTAMP:20260425T012536Z
DTSTART:20260427T143000Z
DTEND:20260427T153000Z
SUMMARY:Graveside Service
DESCRIPTION:
URL:https://www.kornerstonefunerals.com/obituaries/debra-riddle-plainview
LOCATION: 100 Joliet Street  Plainview TX 79072
GEO:34.1777719;-101.7164372
END:VEVENT
END:VCALENDAR