BEGIN:VCALENDAR
VERSION:2.0
PRODID:-//Tukios.com/
BEGIN:VEVENT
UID:991d249d-0ef7-44ad-a7e5-6508812e1a15@www.kornerstonefunerals.com
DTSTAMP:20260421T204402Z
DTSTART:20260424T220000Z
DTEND:20260425T000000Z
SUMMARY:Visitation
DESCRIPTION:
URL:https://www.kornerstonefunerals.com/obituaries/julie-james-tulia
LOCATION: 201 W Broadway Ave  Tulia TX 79088
GEO:34.5368316;-101.7661807
END:VEVENT
END:VCALENDAR