BEGIN:VCALENDAR
VERSION:2.0
PRODID:-//Tukios.com/
BEGIN:VEVENT
UID:c041cca6-7a91-4f5a-b652-8e3f8095d3a3@www.kornerstonefunerals.com
DTSTAMP:20260421T204444Z
DTSTART:20260425T150000Z
DTEND:20260425T160000Z
SUMMARY:Funeral Service
DESCRIPTION:
URL:https://www.kornerstonefunerals.com/obituaries/julie-james-tulia
LOCATION: 201 W Broadway Ave  Tulia TX 79088
GEO:34.5368316;-101.7661807
END:VEVENT
END:VCALENDAR