BEGIN:VCALENDAR
VERSION:2.0
PRODID:-//Tukios.com/
BEGIN:VEVENT
UID:ddf20bb3-9a57-4865-a0e8-710acc8394ef@www.kornerstonefunerals.com
DTSTAMP:20260421T204445Z
DTSTART:20260425
SUMMARY:Burial
DESCRIPTION:
URL:https://www.kornerstonefunerals.com/obituaries/julie-james-tulia
LOCATION: 1555 Co Rd 13  Tulia TX 79088
GEO:34.5202818;-101.7780528
END:VEVENT
END:VCALENDAR